BEGIN:VCALENDAR
VERSION:2.0
PRODID:-//hacksw/handcal//NONSGML v1.0//EN
BEGIN:VEVENT
DTSTART:20241213T090000
DTEND:20241214T133000
LOCATION:Salle boisée \n12 rue Catherine de la Rochefoucauld \n75009 Paris
ORGANIZER;CN=Marlene VAN DE CASTEELE:MAILTO:marlene.vandecasteele@esmod.com
SUMMARY:VOGUE'S VIEW:ON EDUCATION. From the Archives to the Classroom
DESCRIPTION:ESMOD International's Research Lab is co-organizing a symposium around Diachronic and transnational Perspectives on Vogue magazine, on December 13 and 14, 2024. This study day focuses on the history...
URL:https://www.esmod-alumni.com/en/event/vogue-s-view-on-education-from-the-archives-to-the-classroom/2024/12/13/175
BEGIN:VALARM
TRIGGER:-P0DT1H0M0S
ACTION:DISPLAY
END:VALARM
END:VEVENT
END:VCALENDAR